BEGIN:VCALENDAR
VERSION:2.0
PRODID:-//毛小孩幸福教室 - ECPv6.15.20//NONSGML v1.0//EN
CALSCALE:GREGORIAN
METHOD:PUBLISH
X-WR-CALNAME:毛小孩幸福教室
X-ORIGINAL-URL:https://unitedfurkids.com
X-WR-CALDESC:Events for 毛小孩幸福教室
REFRESH-INTERVAL;VALUE=DURATION:PT1H
X-Robots-Tag:noindex
X-PUBLISHED-TTL:PT1H
BEGIN:VTIMEZONE
TZID:Asia/Shanghai
BEGIN:STANDARD
TZOFFSETFROM:+0800
TZOFFSETTO:+0800
TZNAME:CST
DTSTART:20230101T000000
END:STANDARD
END:VTIMEZONE
BEGIN:VEVENT
DTSTART;TZID=Asia/Shanghai:20240407T110000
DTEND;TZID=Asia/Shanghai:20240407T143000
DTSTAMP:20260420T213750
CREATED:20240406T003504Z
LAST-MODIFIED:20240406T005318Z
UID:345-1712487600-1712500200@unitedfurkids.com
SUMMARY:柴飽早午餐&毛小孩公益饗宴最終場
DESCRIPTION:
URL:https://unitedfurkids.com/event/event20240407
LOCATION:柴飽早午餐\, 新北市新莊區自立街126號\, 242\, 台灣
CATEGORIES:遛狗市集
ATTACH;FMTTYPE=image/jpeg:https://unitedfurkids.com/wp-content/uploads/2024/04/Breakfast-with-1-1.jpg
END:VEVENT
END:VCALENDAR